BEGIN:VCALENDAR
VERSION:2.0
PRODID:-//Wilson Auction Service - ECPv6.15.16.1//NONSGML v1.0//EN
CALSCALE:GREGORIAN
METHOD:PUBLISH
X-WR-CALNAME:Wilson Auction Service
X-ORIGINAL-URL:http://wilsonauctionservice.com
X-WR-CALDESC:Events for Wilson Auction Service
REFRESH-INTERVAL;VALUE=DURATION:PT1H
X-Robots-Tag:noindex
X-PUBLISHED-TTL:PT1H
BEGIN:VTIMEZONE
TZID:America/Chicago
BEGIN:DAYLIGHT
TZOFFSETFROM:-0600
TZOFFSETTO:-0500
TZNAME:CDT
DTSTART:20250309T080000
END:DAYLIGHT
BEGIN:STANDARD
TZOFFSETFROM:-0500
TZOFFSETTO:-0600
TZNAME:CST
DTSTART:20251102T070000
END:STANDARD
BEGIN:DAYLIGHT
TZOFFSETFROM:-0600
TZOFFSETTO:-0500
TZNAME:CDT
DTSTART:20260308T080000
END:DAYLIGHT
BEGIN:STANDARD
TZOFFSETFROM:-0500
TZOFFSETTO:-0600
TZNAME:CST
DTSTART:20261101T070000
END:STANDARD
BEGIN:DAYLIGHT
TZOFFSETFROM:-0600
TZOFFSETTO:-0500
TZNAME:CDT
DTSTART:20270314T080000
END:DAYLIGHT
BEGIN:STANDARD
TZOFFSETFROM:-0500
TZOFFSETTO:-0600
TZNAME:CST
DTSTART:20271107T070000
END:STANDARD
END:VTIMEZONE
BEGIN:VEVENT
DTSTART;TZID=America/Chicago:20260115T164500
DTEND;TZID=America/Chicago:20260115T200000
DTSTAMP:20260425T102327
CREATED:20260108T212957Z
LAST-MODIFIED:20260108T213731Z
UID:14082-1768495500-1768507200@wilsonauctionservice.com
SUMMARY:COMBINED MOVING AUCTION | 4:45 | COLO
DESCRIPTION:
URL:https://wilsonauctionservice.com/combined-moving-auction-42/
END:VEVENT
END:VCALENDAR