BEGIN:VCALENDAR
VERSION:2.0
PRODID:-//Wilson Auction Service - ECPv6.15.16.1//NONSGML v1.0//EN
CALSCALE:GREGORIAN
METHOD:PUBLISH
X-WR-CALNAME:Wilson Auction Service
X-ORIGINAL-URL:http://wilsonauctionservice.com
X-WR-CALDESC:Events for Wilson Auction Service
REFRESH-INTERVAL;VALUE=DURATION:PT1H
X-Robots-Tag:noindex
X-PUBLISHED-TTL:PT1H
BEGIN:VTIMEZONE
TZID:America/Chicago
BEGIN:DAYLIGHT
TZOFFSETFROM:-0600
TZOFFSETTO:-0500
TZNAME:CDT
DTSTART:20210314T080000
END:DAYLIGHT
BEGIN:STANDARD
TZOFFSETFROM:-0500
TZOFFSETTO:-0600
TZNAME:CST
DTSTART:20211107T070000
END:STANDARD
BEGIN:DAYLIGHT
TZOFFSETFROM:-0600
TZOFFSETTO:-0500
TZNAME:CDT
DTSTART:20220313T080000
END:DAYLIGHT
BEGIN:STANDARD
TZOFFSETFROM:-0500
TZOFFSETTO:-0600
TZNAME:CST
DTSTART:20221106T070000
END:STANDARD
BEGIN:DAYLIGHT
TZOFFSETFROM:-0600
TZOFFSETTO:-0500
TZNAME:CDT
DTSTART:20230312T080000
END:DAYLIGHT
BEGIN:STANDARD
TZOFFSETFROM:-0500
TZOFFSETTO:-0600
TZNAME:CST
DTSTART:20231105T070000
END:STANDARD
BEGIN:DAYLIGHT
TZOFFSETFROM:-0600
TZOFFSETTO:-0500
TZNAME:CDT
DTSTART:20240310T080000
END:DAYLIGHT
BEGIN:STANDARD
TZOFFSETFROM:-0500
TZOFFSETTO:-0600
TZNAME:CST
DTSTART:20241103T070000
END:STANDARD
END:VTIMEZONE
BEGIN:VEVENT
DTSTART;TZID=America/Chicago:20230701T100000
DTEND;TZID=America/Chicago:20230701T140000
DTSTAMP:20260425T223628
CREATED:20230615T161659Z
LAST-MODIFIED:20230615T161710Z
UID:7354-1688205600-1688220000@wilsonauctionservice.com
SUMMARY:ON-SITE MOVING AUCTION 10:00AM RIPPEY\, IA
DESCRIPTION:
URL:http://wilsonauctionservice.com/moving-auction-8/
LOCATION:RIPPEY\, IA\, 2106 340TH STREET\, RIPPEY\, IA\, 50235\, United States
END:VEVENT
BEGIN:VEVENT
DTSTART;TZID=America/Chicago:20230622T163000
DTEND;TZID=America/Chicago:20230622T203000
DTSTAMP:20260425T223628
CREATED:20230613T042112Z
LAST-MODIFIED:20230613T042112Z
UID:7347-1687451400-1687465800@wilsonauctionservice.com
SUMMARY:GUNS-AMMO-TOOLS-TOYS-SIGNS-PRIMITIVES-YARD & GARDN & MORE - COMBINED MOVING AUCTION -COLO\, IA - 4:30PM
DESCRIPTION:
URL:http://wilsonauctionservice.com/guns-ammo-tools-toys-signs-primitives-yard-garden-and-more-combined-moving-auction/
LOCATION:Willow Brook Barn\, 408 Progress Drive\, Colo\, IA\, 50056\, United States
END:VEVENT
BEGIN:VEVENT
DTSTART;TZID=America/Chicago:20230621T100000
DTEND;TZID=America/Chicago:20230621T170000
DTSTAMP:20260425T223628
CREATED:20230515T194617Z
LAST-MODIFIED:20230515T194617Z
UID:7335-1687341600-1687366800@wilsonauctionservice.com
SUMMARY:Larry Olson Antique Car Estate Sale - Floyd Hammer Antique Car Collection 10:00AM Conrad\, IA
DESCRIPTION:
URL:https://www.equipmentfacts.com/listings/auctions/online/event/223282173/list
LOCATION:Conrad\, IA\, 14946 320TH STREET\, CONRAD\, 50621\, United States
END:VEVENT
BEGIN:VEVENT
DTSTART;VALUE=DATE:20230617
DTEND;VALUE=DATE:20230618
DTSTAMP:20260425T223628
CREATED:20230615T161749Z
LAST-MODIFIED:20230615T161749Z
UID:7357-1686960000-1687046399@wilsonauctionservice.com
SUMMARY:PRIVATE EVENT
DESCRIPTION:
URL:http://wilsonauctionservice.com/event/private-event-4/
END:VEVENT
BEGIN:VEVENT
DTSTART;TZID=America/Chicago:20230615T173000
DTEND;TZID=America/Chicago:20230615T203000
DTSTAMP:20260425T223628
CREATED:20230605T203037Z
LAST-MODIFIED:20230605T203037Z
UID:7342-1686850200-1686861000@wilsonauctionservice.com
SUMMARY:MARSHA SWEET :: AL REED COMBINED AUCTION 5:30PM CONRAD\, IA
DESCRIPTION:
URL:http://wilsonauctionservice.com/marsha-sweet-moving-al-reed-estate-combined-auction/
LOCATION:Conrad\, IA\, 14946 320TH STREET\, CONRAD\, 50621\, United States
END:VEVENT
BEGIN:VEVENT
DTSTART;TZID=America/Chicago:20230607T100000
DTEND;TZID=America/Chicago:20230607T170000
DTSTAMP:20260425T223628
CREATED:20230515T194203Z
LAST-MODIFIED:20230515T194203Z
UID:7331-1686132000-1686157200@wilsonauctionservice.com
SUMMARY:Mid Iowa Auction Company\, HPL\, & McCoy Auction Annual Spring Sale 10:00AM Union\, IA
DESCRIPTION:
URL:https://www.equipmentfacts.com/listings/auctions/online/event/221704727/list
LOCATION:500 East Street\, Union\, IA 50258\, 500 East Street\, Union\, IA\, 50258\, United States
END:VEVENT
BEGIN:VEVENT
DTSTART;TZID=America/Chicago:20230603T100000
DTEND;TZID=America/Chicago:20230603T150000
DTSTAMP:20260425T223628
CREATED:20230505T030735Z
LAST-MODIFIED:20230505T030735Z
UID:7323-1685786400-1685804400@wilsonauctionservice.com
SUMMARY:ON SITE - REINHARD & CHERYL STAERK ESTATE AUCTION - DILLON\, IOWA 10AM
DESCRIPTION:
URL:http://wilsonauctionservice.com/estate-auction-8/
LOCATION:REINHARD & CHERYL STAERK ESTATE\, 2622 DILLON ROAD\, DILLON\, IA\, 50158\, United States
END:VEVENT
BEGIN:VEVENT
DTSTART;TZID=America/Chicago:20230518T170000
DTEND;TZID=America/Chicago:20230518T200000
DTSTAMP:20260425T223628
CREATED:20230503T014702Z
LAST-MODIFIED:20230503T014702Z
UID:7315-1684429200-1684440000@wilsonauctionservice.com
SUMMARY:ON-SITE ESTATE AUCTION - MARVIN CHRISTIANSEN - CLEMONS\, IA 5:00PM
DESCRIPTION:
URL:http://wilsonauctionservice.com/estate-auction-7/
LOCATION:101 MAPLE – CLEMONS\, IA\, 101 MAPLE\, CLEMONS\, IA\, United States
END:VEVENT
BEGIN:VEVENT
DTSTART;TZID=America/Chicago:20230513T100000
DTEND;TZID=America/Chicago:20230513T140000
DTSTAMP:20260425T223628
CREATED:20230430T023502Z
LAST-MODIFIED:20230430T024607Z
UID:7307-1683972000-1683986400@wilsonauctionservice.com
SUMMARY:WILLIE JR KRIEGEL ESTATE AUCTION 10AM - ON SITE
DESCRIPTION:
URL:http://wilsonauctionservice.com/snap-on-craftsman-mowers-collectibles-snowblowers/
END:VEVENT
BEGIN:VEVENT
DTSTART;VALUE=DATE:20230504
DTEND;VALUE=DATE:20230505
DTSTAMP:20260425T223628
CREATED:20230430T023621Z
LAST-MODIFIED:20230430T023621Z
UID:7309-1683158400-1683244799@wilsonauctionservice.com
SUMMARY:NO AUCTION
DESCRIPTION:
URL:http://wilsonauctionservice.com/event/no-auction-3/
END:VEVENT
BEGIN:VEVENT
DTSTART;TZID=America/Chicago:20230413T163000
DTEND;TZID=America/Chicago:20230413T203000
DTSTAMP:20260425T223628
CREATED:20230406T120325Z
LAST-MODIFIED:20230406T120325Z
UID:7299-1681403400-1681417800@wilsonauctionservice.com
SUMMARY:COMBINED ESTATES & MOVING AUCTION 4:30PM
DESCRIPTION:
URL:http://wilsonauctionservice.com/combined-estates-auction-4/
LOCATION:Willow Brook Barn\, 408 Progress Drive\, Colo\, IA\, 50056\, United States
END:VEVENT
BEGIN:VEVENT
DTSTART;VALUE=DATE:20230406
DTEND;VALUE=DATE:20230407
DTSTAMP:20260425T223628
CREATED:20230406T120359Z
LAST-MODIFIED:20230406T120359Z
UID:7301-1680739200-1680825599@wilsonauctionservice.com
SUMMARY:NO AUCTION
DESCRIPTION:
URL:http://wilsonauctionservice.com/event/no-auction-2/
END:VEVENT
BEGIN:VEVENT
DTSTART;TZID=America/Chicago:20230330T161500
DTEND;TZID=America/Chicago:20230330T203000
DTSTAMP:20260425T223628
CREATED:20230323T234932Z
LAST-MODIFIED:20230323T234932Z
UID:7290-1680192900-1680208200@wilsonauctionservice.com
SUMMARY:ESTATE & MOVING AUCTION 4:15PM
DESCRIPTION:
URL:http://wilsonauctionservice.com/estate-moving-auction-19/#new_tab
LOCATION:Willow Brook Barn\, 408 Progress Drive\, Colo\, IA\, 50056\, United States
END:VEVENT
BEGIN:VEVENT
DTSTART;TZID=America/Chicago:20230329T170000
DTEND;TZID=America/Chicago:20230329T190000
DTSTAMP:20260425T223628
CREATED:20230329T154146Z
LAST-MODIFIED:20230329T154151Z
UID:7293-1680109200-1680116400@wilsonauctionservice.com
SUMMARY:EARLY PREVIEW OF 3/30 AUCTION 5PM-7PM
DESCRIPTION:
URL:http://wilsonauctionservice.com/event/early-preview-of-3-30-auction-5pm-7pm/
LOCATION:Willow Brook Barn\, 408 Progress Drive\, Colo\, IA\, 50056\, United States
END:VEVENT
BEGIN:VEVENT
DTSTART;TZID=America/Chicago:20230316T163000
DTEND;TZID=America/Chicago:20230316T200000
DTSTAMP:20260425T223628
CREATED:20230303T154105Z
LAST-MODIFIED:20230309T142237Z
UID:7278-1678984200-1678996800@wilsonauctionservice.com
SUMMARY:COMBINED ESTATES AUCTION 4:30PM
DESCRIPTION:
URL:http://wilsonauctionservice.com/combined-estates-auction-3/
LOCATION:Willow Brook Barn\, 408 Progress Drive\, Colo\, IA\, 50056\, United States
END:VEVENT
BEGIN:VEVENT
DTSTART;TZID=America/Chicago:20230315T170000
DTEND;TZID=America/Chicago:20230315T190000
DTSTAMP:20260425T223628
CREATED:20230315T211751Z
LAST-MODIFIED:20230315T211758Z
UID:7284-1678899600-1678906800@wilsonauctionservice.com
SUMMARY:PREVIEW FOR THURSDAY'S AUCTION 5PM-7PM
DESCRIPTION:
URL:http://wilsonauctionservice.com/event/preview-for-thursdays-auction/
END:VEVENT
BEGIN:VEVENT
DTSTART;TZID=America/Chicago:20230309T080000
DTEND;TZID=America/Chicago:20230309T170000
DTSTAMP:20260425T223628
CREATED:20230309T142313Z
LAST-MODIFIED:20230309T142320Z
UID:7280-1678348800-1678381200@wilsonauctionservice.com
SUMMARY:DUE TO WEATHER - AUCTION MOVED TO NEXT THURSDAY
DESCRIPTION:
URL:http://wilsonauctionservice.com/event/due-to-weather-auction-moved-to-next-thursday/
END:VEVENT
BEGIN:VEVENT
DTSTART;TZID=America/Chicago:20230223T163000
DTEND;TZID=America/Chicago:20230223T200000
DTSTAMP:20260425T223628
CREATED:20230216T224216Z
LAST-MODIFIED:20230216T224216Z
UID:7273-1677169800-1677182400@wilsonauctionservice.com
SUMMARY:ESTATE MOVING AUCTION 4:30PM
DESCRIPTION:
URL:http://wilsonauctionservice.com/estate-moving-auction-18/#new_tab
LOCATION:Willow Brook Barn\, 408 Progress Drive\, Colo\, IA\, 50056\, United States
END:VEVENT
BEGIN:VEVENT
DTSTART;TZID=America/Chicago:20230209T163000
DTEND;TZID=America/Chicago:20230209T200000
DTSTAMP:20260425T223628
CREATED:20230203T134036Z
LAST-MODIFIED:20230203T134036Z
UID:7265-1675960200-1675972800@wilsonauctionservice.com
SUMMARY:ESTATE MOVING AUCTION 4:30PM
DESCRIPTION:
URL:http://wilsonauctionservice.com/estate-moving-auction-17/#new_tab
LOCATION:Willow Brook Barn\, 408 Progress Drive\, Colo\, IA\, 50056\, United States
END:VEVENT
BEGIN:VEVENT
DTSTART;VALUE=DATE:20230202
DTEND;VALUE=DATE:20230203
DTSTAMP:20260425T223628
CREATED:20230127T201806Z
LAST-MODIFIED:20230127T201813Z
UID:7260-1675296000-1675382399@wilsonauctionservice.com
SUMMARY:NO AUCTION
DESCRIPTION:
URL:http://wilsonauctionservice.com/event/no-auction/
END:VEVENT
BEGIN:VEVENT
DTSTART;TZID=America/Chicago:20230126T163000
DTEND;TZID=America/Chicago:20230126T200000
DTSTAMP:20260425T223628
CREATED:20230123T221558Z
LAST-MODIFIED:20230123T221558Z
UID:7258-1674750600-1674763200@wilsonauctionservice.com
SUMMARY:ESTATE MOVING AUCTION 4:30PM
DESCRIPTION:
URL:http://wilsonauctionservice.com/estate-moving-auction-16#new_tab
LOCATION:Willow Brook Barn\, 408 Progress Drive\, Colo\, IA\, 50056\, United States
END:VEVENT
BEGIN:VEVENT
DTSTART;VALUE=DATE:20230119
DTEND;VALUE=DATE:20230120
DTSTAMP:20260425T223628
CREATED:20230113T205816Z
LAST-MODIFIED:20230113T205816Z
UID:7251-1674086400-1674172799@wilsonauctionservice.com
SUMMARY:ESTATE AUCTION 4:30PM
DESCRIPTION:
URL:http://wilsonauctionservice.com/estate-auction-6/#new_tab
LOCATION:Willow Brook Barn\, 408 Progress Drive\, Colo\, IA\, 50056\, United States
END:VEVENT
BEGIN:VEVENT
DTSTART;TZID=America/Chicago:20230105T163000
DTEND;TZID=America/Chicago:20230105T203000
DTSTAMP:20260425T223628
CREATED:20221227T141829Z
LAST-MODIFIED:20221227T141829Z
UID:7244-1672936200-1672950600@wilsonauctionservice.com
SUMMARY:ESTATE MOVING AUCTION 4:30PM
DESCRIPTION:
URL:http://wilsonauctionservice.com/estate-moving-auction-15/#new_tab
LOCATION:Willow Brook Barn\, 408 Progress Drive\, Colo\, IA\, 50056\, United States
END:VEVENT
BEGIN:VEVENT
DTSTART;TZID=America/Chicago:20221231T210000
DTEND;TZID=America/Chicago:20221231T235900
DTSTAMP:20260425T223628
CREATED:20221205T181455Z
LAST-MODIFIED:20221205T181455Z
UID:7232-1672520400-1672531140@wilsonauctionservice.com
SUMMARY:NEW YEARS EVE BASH - LIVE MUSIC - CHURCH OF CASH
DESCRIPTION:
URL:http://wilsonauctionservice.com/7229-2/#new_tab
LOCATION:Willow Brook Barn\, 408 Progress Drive\, Colo\, IA\, 50056\, United States
END:VEVENT
BEGIN:VEVENT
DTSTART;TZID=America/Chicago:20221215T080000
DTEND;TZID=America/Chicago:20221215T170000
DTSTAMP:20260425T223628
CREATED:20221210T223747Z
LAST-MODIFIED:20221210T223747Z
UID:7239-1671091200-1671123600@wilsonauctionservice.com
SUMMARY:COMBINED MOVING AUCTION 4:30PM
DESCRIPTION:
URL:http://wilsonauctionservice.com/combined-moving-auction-23/?fbclid=IwAR2QBQOf8MwMXAPfSt7MGes5Z15jJAPquPAo0map3wKFiRlcXqIqT5H3M8w#new_tab
LOCATION:Willow Brook Barn\, 408 Progress Drive\, Colo\, IA\, 50056\, United States
END:VEVENT
BEGIN:VEVENT
DTSTART;TZID=America/Chicago:20221129T163000
DTEND;TZID=America/Chicago:20221129T203000
DTSTAMP:20260425T223628
CREATED:20221121T191832Z
LAST-MODIFIED:20221123T174327Z
UID:7221-1669739400-1669753800@wilsonauctionservice.com
SUMMARY:ESTATE MOVING AUCTION 4:30PM
DESCRIPTION:-TUESDAY NOV 29 – \nEARLY BIRD BOX LINE STARTS AT 4:30\nHUGE AMOUNT JEWELRY\nGREAT COLLECTION OF STAR WARS\n& MUCH MORE!
URL:http://wilsonauctionservice.com/estate-moving-auction-14/#new_tab
LOCATION:Willow Brook Barn\, 408 Progress Drive\, Colo\, IA\, 50056\, United States
END:VEVENT
BEGIN:VEVENT
DTSTART;TZID=America/Chicago:20221110T171500
DTEND;TZID=America/Chicago:20221110T203000
DTSTAMP:20260425T223628
CREATED:20221106T170941Z
LAST-MODIFIED:20221106T170941Z
UID:7218-1668100500-1668112200@wilsonauctionservice.com
SUMMARY:ESTATE MOVING AUCTION 5:15PM
DESCRIPTION:
URL:http://wilsonauctionservice.com/estate-moving-auction-13/#new_tab
LOCATION:Willow Brook Barn\, 408 Progress Drive\, Colo\, IA\, 50056\, United States
END:VEVENT
BEGIN:VEVENT
DTSTART;TZID=America/Chicago:20221103T171500
DTEND;TZID=America/Chicago:20221103T203000
DTSTAMP:20260425T223628
CREATED:20221029T191023Z
LAST-MODIFIED:20221029T191244Z
UID:7211-1667495700-1667507400@wilsonauctionservice.com
SUMMARY:ESTATE-MOVING AUCTION 5:15PM
DESCRIPTION:Estate-Moving Auction \nThurs. Eve. Nov 3rd 5:15PM \nWillow Brook Barn – 408 Progress Drive\, Colo\, IA Hwy 30\nSouth of C-N School\nEarly Bird box line 4:30PM App 200 boxes – Exc. Variety of boxes! \n 
URL:http://wilsonauctionservice.com/estate-moving/#new_tab
LOCATION:Willow Brook Barn\, 408 Progress Drive\, Colo\, IA\, 50056\, United States
END:VEVENT
BEGIN:VEVENT
DTSTART;VALUE=DATE:20221022
DTEND;VALUE=DATE:20221023
DTSTAMP:20260425T223628
CREATED:20221001T003641Z
LAST-MODIFIED:20221001T003641Z
UID:6909-1666396800-1666483199@wilsonauctionservice.com
SUMMARY:WEDDING
DESCRIPTION:
URL:http://wilsonauctionservice.com/event/wedding-22/
END:VEVENT
BEGIN:VEVENT
DTSTART;TZID=America/Chicago:20221015T170000
DTEND;TZID=America/Chicago:20221015T235900
DTSTAMP:20260425T223628
CREATED:20221001T003401Z
LAST-MODIFIED:20221001T003540Z
UID:6905-1665853200-1665878340@wilsonauctionservice.com
SUMMARY:PHEASANTS FOREVER BANQUET
DESCRIPTION:
URL:http://storycountypheasantsforever.com/?page_id=30#new_tab
END:VEVENT
END:VCALENDAR