BEGIN:VCALENDAR
VERSION:2.0
PRODID:-//Wilson Auction Service - ECPv6.15.16.1//NONSGML v1.0//EN
CALSCALE:GREGORIAN
METHOD:PUBLISH
X-WR-CALNAME:Wilson Auction Service
X-ORIGINAL-URL:http://wilsonauctionservice.com
X-WR-CALDESC:Events for Wilson Auction Service
REFRESH-INTERVAL;VALUE=DURATION:PT1H
X-Robots-Tag:noindex
X-PUBLISHED-TTL:PT1H
BEGIN:VTIMEZONE
TZID:America/Chicago
BEGIN:DAYLIGHT
TZOFFSETFROM:-0600
TZOFFSETTO:-0500
TZNAME:CDT
DTSTART:20210314T080000
END:DAYLIGHT
BEGIN:STANDARD
TZOFFSETFROM:-0500
TZOFFSETTO:-0600
TZNAME:CST
DTSTART:20211107T070000
END:STANDARD
BEGIN:DAYLIGHT
TZOFFSETFROM:-0600
TZOFFSETTO:-0500
TZNAME:CDT
DTSTART:20220313T080000
END:DAYLIGHT
BEGIN:STANDARD
TZOFFSETFROM:-0500
TZOFFSETTO:-0600
TZNAME:CST
DTSTART:20221106T070000
END:STANDARD
BEGIN:DAYLIGHT
TZOFFSETFROM:-0600
TZOFFSETTO:-0500
TZNAME:CDT
DTSTART:20230312T080000
END:DAYLIGHT
BEGIN:STANDARD
TZOFFSETFROM:-0500
TZOFFSETTO:-0600
TZNAME:CST
DTSTART:20231105T070000
END:STANDARD
BEGIN:DAYLIGHT
TZOFFSETFROM:-0600
TZOFFSETTO:-0500
TZNAME:CDT
DTSTART:20240310T080000
END:DAYLIGHT
BEGIN:STANDARD
TZOFFSETFROM:-0500
TZOFFSETTO:-0600
TZNAME:CST
DTSTART:20241103T070000
END:STANDARD
END:VTIMEZONE
BEGIN:VEVENT
DTSTART;TZID=America/Chicago:20230209T163000
DTEND;TZID=America/Chicago:20230209T200000
DTSTAMP:20260425T222754
CREATED:20230203T134036Z
LAST-MODIFIED:20230203T134036Z
UID:7265-1675960200-1675972800@wilsonauctionservice.com
SUMMARY:ESTATE MOVING AUCTION 4:30PM
DESCRIPTION:
URL:http://wilsonauctionservice.com/estate-moving-auction-17/#new_tab
LOCATION:Willow Brook Barn\, 408 Progress Drive\, Colo\, IA\, 50056\, United States
END:VEVENT
BEGIN:VEVENT
DTSTART;VALUE=DATE:20230202
DTEND;VALUE=DATE:20230203
DTSTAMP:20260425T222754
CREATED:20230127T201806Z
LAST-MODIFIED:20230127T201813Z
UID:7260-1675296000-1675382399@wilsonauctionservice.com
SUMMARY:NO AUCTION
DESCRIPTION:
URL:http://wilsonauctionservice.com/event/no-auction/
LOCATION:IA
END:VEVENT
BEGIN:VEVENT
DTSTART;TZID=America/Chicago:20230126T163000
DTEND;TZID=America/Chicago:20230126T200000
DTSTAMP:20260425T222754
CREATED:20230123T221558Z
LAST-MODIFIED:20230123T221558Z
UID:7258-1674750600-1674763200@wilsonauctionservice.com
SUMMARY:ESTATE MOVING AUCTION 4:30PM
DESCRIPTION:
URL:http://wilsonauctionservice.com/estate-moving-auction-16#new_tab
LOCATION:Willow Brook Barn\, 408 Progress Drive\, Colo\, IA\, 50056\, United States
END:VEVENT
BEGIN:VEVENT
DTSTART;VALUE=DATE:20230119
DTEND;VALUE=DATE:20230120
DTSTAMP:20260425T222754
CREATED:20230113T205816Z
LAST-MODIFIED:20230113T205816Z
UID:7251-1674086400-1674172799@wilsonauctionservice.com
SUMMARY:ESTATE AUCTION 4:30PM
DESCRIPTION:
URL:http://wilsonauctionservice.com/estate-auction-6/#new_tab
LOCATION:Willow Brook Barn\, 408 Progress Drive\, Colo\, IA\, 50056\, United States
END:VEVENT
BEGIN:VEVENT
DTSTART;TZID=America/Chicago:20230105T163000
DTEND;TZID=America/Chicago:20230105T203000
DTSTAMP:20260425T222754
CREATED:20221227T141829Z
LAST-MODIFIED:20221227T141829Z
UID:7244-1672936200-1672950600@wilsonauctionservice.com
SUMMARY:ESTATE MOVING AUCTION 4:30PM
DESCRIPTION:
URL:http://wilsonauctionservice.com/estate-moving-auction-15/#new_tab
LOCATION:Willow Brook Barn\, 408 Progress Drive\, Colo\, IA\, 50056\, United States
END:VEVENT
BEGIN:VEVENT
DTSTART;TZID=America/Chicago:20221231T210000
DTEND;TZID=America/Chicago:20221231T235900
DTSTAMP:20260425T222754
CREATED:20221205T181455Z
LAST-MODIFIED:20221205T181455Z
UID:7232-1672520400-1672531140@wilsonauctionservice.com
SUMMARY:NEW YEARS EVE BASH - LIVE MUSIC - CHURCH OF CASH
DESCRIPTION:
URL:http://wilsonauctionservice.com/7229-2/#new_tab
LOCATION:Willow Brook Barn\, 408 Progress Drive\, Colo\, IA\, 50056\, United States
END:VEVENT
BEGIN:VEVENT
DTSTART;TZID=America/Chicago:20221215T080000
DTEND;TZID=America/Chicago:20221215T170000
DTSTAMP:20260425T222754
CREATED:20221210T223747Z
LAST-MODIFIED:20221210T223747Z
UID:7239-1671091200-1671123600@wilsonauctionservice.com
SUMMARY:COMBINED MOVING AUCTION 4:30PM
DESCRIPTION:
URL:http://wilsonauctionservice.com/combined-moving-auction-23/?fbclid=IwAR2QBQOf8MwMXAPfSt7MGes5Z15jJAPquPAo0map3wKFiRlcXqIqT5H3M8w#new_tab
LOCATION:Willow Brook Barn\, 408 Progress Drive\, Colo\, IA\, 50056\, United States
END:VEVENT
BEGIN:VEVENT
DTSTART;TZID=America/Chicago:20221129T163000
DTEND;TZID=America/Chicago:20221129T203000
DTSTAMP:20260425T222754
CREATED:20221121T191832Z
LAST-MODIFIED:20221123T174327Z
UID:7221-1669739400-1669753800@wilsonauctionservice.com
SUMMARY:ESTATE MOVING AUCTION 4:30PM
DESCRIPTION:-TUESDAY NOV 29 – \nEARLY BIRD BOX LINE STARTS AT 4:30\nHUGE AMOUNT JEWELRY\nGREAT COLLECTION OF STAR WARS\n& MUCH MORE!
URL:http://wilsonauctionservice.com/estate-moving-auction-14/#new_tab
LOCATION:Willow Brook Barn\, 408 Progress Drive\, Colo\, IA\, 50056\, United States
END:VEVENT
BEGIN:VEVENT
DTSTART;TZID=America/Chicago:20221110T171500
DTEND;TZID=America/Chicago:20221110T203000
DTSTAMP:20260425T222754
CREATED:20221106T170941Z
LAST-MODIFIED:20221106T170941Z
UID:7218-1668100500-1668112200@wilsonauctionservice.com
SUMMARY:ESTATE MOVING AUCTION 5:15PM
DESCRIPTION:
URL:http://wilsonauctionservice.com/estate-moving-auction-13/#new_tab
LOCATION:Willow Brook Barn\, 408 Progress Drive\, Colo\, IA\, 50056\, United States
END:VEVENT
BEGIN:VEVENT
DTSTART;TZID=America/Chicago:20221103T171500
DTEND;TZID=America/Chicago:20221103T203000
DTSTAMP:20260425T222754
CREATED:20221029T191023Z
LAST-MODIFIED:20221029T191244Z
UID:7211-1667495700-1667507400@wilsonauctionservice.com
SUMMARY:ESTATE-MOVING AUCTION 5:15PM
DESCRIPTION:Estate-Moving Auction \nThurs. Eve. Nov 3rd 5:15PM \nWillow Brook Barn – 408 Progress Drive\, Colo\, IA Hwy 30\nSouth of C-N School\nEarly Bird box line 4:30PM App 200 boxes – Exc. Variety of boxes! \n 
URL:http://wilsonauctionservice.com/estate-moving/#new_tab
LOCATION:Willow Brook Barn\, 408 Progress Drive\, Colo\, IA\, 50056\, United States
END:VEVENT
BEGIN:VEVENT
DTSTART;VALUE=DATE:20221022
DTEND;VALUE=DATE:20221023
DTSTAMP:20260425T222754
CREATED:20221001T003641Z
LAST-MODIFIED:20221001T003641Z
UID:6909-1666396800-1666483199@wilsonauctionservice.com
SUMMARY:WEDDING
DESCRIPTION:
URL:http://wilsonauctionservice.com/event/wedding-22/
LOCATION:IA
END:VEVENT
BEGIN:VEVENT
DTSTART;TZID=America/Chicago:20221015T170000
DTEND;TZID=America/Chicago:20221015T235900
DTSTAMP:20260425T222754
CREATED:20221001T003401Z
LAST-MODIFIED:20221001T003540Z
UID:6905-1665853200-1665878340@wilsonauctionservice.com
SUMMARY:PHEASANTS FOREVER BANQUET
DESCRIPTION:
URL:http://storycountypheasantsforever.com/?page_id=30#new_tab
LOCATION:IA
END:VEVENT
BEGIN:VEVENT
DTSTART;TZID=America/Chicago:20221012T171500
DTEND;TZID=America/Chicago:20221012T203000
DTSTAMP:20260425T222754
CREATED:20221010T131209Z
LAST-MODIFIED:20221010T131209Z
UID:7026-1665594900-1665606600@wilsonauctionservice.com
SUMMARY:ESTATE MOVING AUCTION 5:15PM
DESCRIPTION:ESTATE MOVING AUCTION \nWED OCT 12 5:15PM \nBOX LINE STARTS 4:45PM \nWILLOW BROOK BARN \n408 PROGRESS DR\, COLO
URL:http://wilsonauctionservice.com/estate-moving-auction-12#new_tab
LOCATION:Willow Brook Barn\, 408 Progress Drive\, Colo\, IA\, 50056\, United States
END:VEVENT
BEGIN:VEVENT
DTSTART;TZID=America/Chicago:20221006T171500
DTEND;TZID=America/Chicago:20221006T203000
DTSTAMP:20260425T222754
CREATED:20221001T003031Z
LAST-MODIFIED:20221001T003302Z
UID:6900-1665076500-1665088200@wilsonauctionservice.com
SUMMARY:COMBINED MOVING AUCTION - 5:15PM - WILLOW BROOK BARN - COLO
DESCRIPTION:COMBINED MOVING AUCTION \nThurs. Eve. Oct. 6th 5:15PM Early Bird Box line 4:30PMWillow Brook Barn – 408 Progress Drive – Colo\, IASouth side Hwy 30 – South of CN School \nLARGE EVENING AUCTION
URL:http://wilsonauctionservice.com/combined-moving-auction-21#new_tab
LOCATION:Willow Brook Barn\, 408 Progress Drive\, Colo\, IA\, 50056\, United States
END:VEVENT
BEGIN:VEVENT
DTSTART;TZID=America/Chicago:20221001T080000
DTEND;TZID=America/Chicago:20221001T170000
DTSTAMP:20260425T222754
CREATED:20220926T122846Z
LAST-MODIFIED:20220926T122846Z
UID:6892-1664611200-1664643600@wilsonauctionservice.com
SUMMARY:*ON-SITE* SUE & MIKE SWARTS ESTATE AUCTION-BOONE\, IA 9:30AM
DESCRIPTION:Sue & Mike Swarts Estate \nSat. Oct 1 – 9:30AM – 915 West 10th Boone\, IA \nNote: This will be 1st session of Large Estate and a wide variety of items.
URL:http://wilsonauctionservice.com/estate-auction-5/#new_tab
LOCATION:915 West 10th\, Boone\, IA\, 915 West 10th\, Boone\, 50036\, United States
END:VEVENT
BEGIN:VEVENT
DTSTART;VALUE=DATE:20220924
DTEND;VALUE=DATE:20220925
DTSTAMP:20260425T222754
CREATED:20220903T135010Z
LAST-MODIFIED:20220903T135010Z
UID:6880-1663977600-1664063999@wilsonauctionservice.com
SUMMARY:WEDDING
DESCRIPTION:
URL:http://wilsonauctionservice.com/event/wedding-20/
LOCATION:IA
END:VEVENT
BEGIN:VEVENT
DTSTART;TZID=America/Chicago:20220920T163000
DTEND;TZID=America/Chicago:20220920T203000
DTSTAMP:20260425T222754
CREATED:20220916T131841Z
LAST-MODIFIED:20220916T132051Z
UID:6886-1663691400-1663705800@wilsonauctionservice.com
SUMMARY:Estate - Moving Auction 4:30PM
DESCRIPTION:TUESDAY Sept 20 4:30PM\nWillow Brook Barn\n408 Progress Drive\nColo\, Iowa 50056 \n 
URL:http://wilsonauctionservice.com/estate-moving-auction-11/#new_tab
LOCATION:Willow Brook Barn\, 408 Progress Drive\, Colo\, IA\, 50056\, United States
END:VEVENT
BEGIN:VEVENT
DTSTART;VALUE=DATE:20220910
DTEND;VALUE=DATE:20220911
DTSTAMP:20260425T222754
CREATED:20220903T134954Z
LAST-MODIFIED:20220903T134954Z
UID:6878-1662768000-1662854399@wilsonauctionservice.com
SUMMARY:WEDDING
DESCRIPTION:
URL:http://wilsonauctionservice.com/event/wedding-19/
LOCATION:IA
END:VEVENT
BEGIN:VEVENT
DTSTART;TZID=America/Chicago:20220908T164500
DTEND;TZID=America/Chicago:20220908T203000
DTSTAMP:20260425T222754
CREATED:20220903T134915Z
LAST-MODIFIED:20220903T134919Z
UID:6875-1662655500-1662669000@wilsonauctionservice.com
SUMMARY:Duane & Janet "Old Lady" Pundt Auction
DESCRIPTION:Owners: Duane & Janet “Old Lady” Pundt\nThurs. Eve. Sept 8th 4:45PM\n406 7th Ave SW State Center\, IA \nRain or Shine – Selling from 2 Rings – Many Items will be sold in home or garage – Bring your partner!
URL:http://wilsonauctionservice.com/auction/#new_tab
LOCATION:406 7th Ave SW State Center\, IA 50247\, 406 7th Ave SW\, State Center\, IA\, 50247\, United States
END:VEVENT
BEGIN:VEVENT
DTSTART;VALUE=DATE:20220827
DTEND;VALUE=DATE:20220828
DTSTAMP:20260425T222754
CREATED:20220527T122625Z
LAST-MODIFIED:20220527T122625Z
UID:5759-1661558400-1661644799@wilsonauctionservice.com
SUMMARY:WEDDING
DESCRIPTION:
URL:http://wilsonauctionservice.com/event/wedding-18/
LOCATION:IA
END:VEVENT
BEGIN:VEVENT
DTSTART;TZID=America/Chicago:20220821T114500
DTEND;TZID=America/Chicago:20220821T160000
DTSTAMP:20260425T222754
CREATED:20220810T224859Z
LAST-MODIFIED:20220816T010103Z
UID:6859-1661082300-1661097600@wilsonauctionservice.com
SUMMARY:JERRY SWENSON - 2ND SESSION - STONEWARE & MORE
DESCRIPTION:Private Collector Auction\nJerry Swenson \nSunday Aug 21 – 11:45AM \nWillow Brook Barn – Colo
URL:http://wilsonauctionservice.com/private-collector-auction/#new_tab
LOCATION:Willow Brook Barn\, 408 Progress Drive\, Colo\, IA\, 50056\, United States
END:VEVENT
BEGIN:VEVENT
DTSTART;TZID=America/Chicago:20220820T100000
DTEND;TZID=America/Chicago:20220820T140000
DTSTAMP:20260425T222754
CREATED:20220729T155727Z
LAST-MODIFIED:20220808T030239Z
UID:6809-1660989600-1661004000@wilsonauctionservice.com
SUMMARY:MOVING AUCTION 10AM - CARROLL & JENNIFER NIKKEL - MAXWELL
DESCRIPTION:Moving Auction \nSat. Aug 20th 10:00AM \nOwners: Carroll & Jennifer Nikkel \nLocation: 28457 650th Ave (S-27) Maxwell\, IA \n  \nAuctioneer’s Note: Carroll & Jennifer are selling their beautiful acreage – with pond and have commissioned Wilson Auction to sell their items or them! \n  \n  \nPickup – Tractors – Trailer – Tools – Household – \nPedal Tractors – Toys & More!!
URL:http://wilsonauctionservice.com/moving-auction-7/#new_tab
LOCATION:CARROLL & JENNIFER NIKKEL\, 28457 650TH AVE\, MAXWELL\, IA\, 50161\, United States
END:VEVENT
BEGIN:VEVENT
DTSTART;TZID=America/Chicago:20220818T173000
DTEND;TZID=America/Chicago:20220818T200000
DTSTAMP:20260425T222754
CREATED:20220808T215324Z
LAST-MODIFIED:20220812T190610Z
UID:6848-1660843800-1660852800@wilsonauctionservice.com
SUMMARY:TOY AUCTION - JERRY SWENSON COLLECTION
DESCRIPTION:THURS. EVE. AUG 18TH 5:30PM \nWILLOW BROOK BARN  \n408 PROGRESS DRIVE – COLO\, IA \nDOORS OPEN 2:30PM \nLARGE EXCELLENT COLLECTION!!! HOPE YOU CAN BE WITH US!
URL:http://wilsonauctionservice.com/toy-auction-2/#new_tab
LOCATION:Willow Brook Barn\, 408 Progress Drive\, Colo\, IA\, 50056\, United States
END:VEVENT
BEGIN:VEVENT
DTSTART;TZID=America/Chicago:20220813T170000
DTEND;TZID=America/Chicago:20220813T200000
DTSTAMP:20260425T222754
CREATED:20220808T030438Z
LAST-MODIFIED:20220809T120652Z
UID:6846-1660410000-1660420800@wilsonauctionservice.com
SUMMARY:COMBINED ESTATES AUCTION 5PM- Max Whitaker\, Nevada - Donna Wilder\, Ames
DESCRIPTION:SAT EVENING AUG 13 – 5:00PM \nWILLOW BROOK BARN – 408 PROGRESS DR\, COLO\, IA
URL:http://wilsonauctionservice.com/combined-estates-auction-2/#new_tab
LOCATION:Willow Brook Barn\, 408 Progress Drive\, Colo\, IA\, 50056\, United States
END:VEVENT
BEGIN:VEVENT
DTSTART;TZID=America/Chicago:20220811T044500
DTEND;TZID=America/Chicago:20220811T203000
DTSTAMP:20260425T222754
CREATED:20220803T042305Z
LAST-MODIFIED:20220803T042318Z
UID:6838-1660193100-1660249800@wilsonauctionservice.com
SUMMARY:Red Huff Estate Auction 4:45PM - NEVADA
DESCRIPTION:Thurday evening Aug 11th 4:45PM\n929 13thh Str. Nevada\, IA \nEarlybird Box Line starts at 4:45PM
URL:http://wilsonauctionservice.com/red-huff-estate-auction/#new_tab
LOCATION:929 13th Street Nevada\, IA\, 929 13th Street\, Nevada\, IA\, 50201\, United States
END:VEVENT
BEGIN:VEVENT
DTSTART;VALUE=DATE:20220806
DTEND;VALUE=DATE:20220807
DTSTAMP:20260425T222754
CREATED:20220527T122607Z
LAST-MODIFIED:20220527T122607Z
UID:5757-1659744000-1659830399@wilsonauctionservice.com
SUMMARY:WEDDING
DESCRIPTION:
URL:http://wilsonauctionservice.com/event/wedding-17/
LOCATION:IA
END:VEVENT
BEGIN:VEVENT
DTSTART;TZID=America/Chicago:20220803T173000
DTEND;TZID=America/Chicago:20220803T203000
DTSTAMP:20260425T222754
CREATED:20220722T151802Z
LAST-MODIFIED:20220729T155438Z
UID:6802-1659547800-1659558600@wilsonauctionservice.com
SUMMARY:MOVING AUCTION - ON-SITE IN MAXWELL
DESCRIPTION:Moving Auction \nWednesday Eve. Aug. 3rd  –  5:30PM \nOn-Site: 702 Metcalf Street – Maxwell\, IA \nOwners: Jerry & Joyce Harmon
URL:http://wilsonauctionservice.com/moving-auction-5/#new_tab
LOCATION:702 METCALF  MAXWELL\, IA\, 702 METCALF STREET\, MAXWELL\, IA\, 50161\, United States
END:VEVENT
BEGIN:VEVENT
DTSTART;VALUE=DATE:20220723
DTEND;VALUE=DATE:20220724
DTSTAMP:20260425T222754
CREATED:20220527T122543Z
LAST-MODIFIED:20220527T122543Z
UID:5755-1658534400-1658620799@wilsonauctionservice.com
SUMMARY:WEDDING
DESCRIPTION:
URL:http://wilsonauctionservice.com/event/wedding-16/
LOCATION:IA
END:VEVENT
BEGIN:VEVENT
DTSTART;TZID=America/Chicago:20220714T160000
DTEND;TZID=America/Chicago:20220714T210000
DTSTAMP:20260425T222754
CREATED:20220711T132820Z
LAST-MODIFIED:20220711T132820Z
UID:6466-1657814400-1657832400@wilsonauctionservice.com
SUMMARY:COMBINED ESTATES AUCTION 4:00PM
DESCRIPTION:Thurs. Eve. July 14th – Wilson Auction – 408 Progress Dr. Colo\, IA \n (Willow Brook Barn – Hwy 30 South of CN School) \n*Everyone Note Starting Times* \nCoin Buyers: 4:00PM  – App 175 lots of coins including $50.00 Double Eagle 1oz Gold Coin! Lots of silver! \nEarly Bird Box line app 5:15 – which will include many shop supplies. \nGreat Auction Make Plans to Attend!
URL:http://wilsonauctionservice.com/combined-estates-auction/#new_tab
LOCATION:Willow Brook Barn\, 408 Progress Drive\, Colo\, IA\, 50056\, United States
END:VEVENT
BEGIN:VEVENT
DTSTART;VALUE=DATE:20220709
DTEND;VALUE=DATE:20220710
DTSTAMP:20260425T222754
CREATED:20220527T122518Z
LAST-MODIFIED:20220527T122518Z
UID:5753-1657324800-1657411199@wilsonauctionservice.com
SUMMARY:PRIVATE EVENT
DESCRIPTION:
URL:http://wilsonauctionservice.com/event/private-event-3/
LOCATION:IA
END:VEVENT
END:VCALENDAR