BEGIN:VCALENDAR
VERSION:2.0
PRODID:-//Wilson Auction Service - ECPv6.15.16.1//NONSGML v1.0//EN
CALSCALE:GREGORIAN
METHOD:PUBLISH
X-ORIGINAL-URL:http://wilsonauctionservice.com
X-WR-CALDESC:Events for Wilson Auction Service
REFRESH-INTERVAL;VALUE=DURATION:PT1H
X-Robots-Tag:noindex
X-PUBLISHED-TTL:PT1H
BEGIN:VTIMEZONE
TZID:America/Chicago
BEGIN:DAYLIGHT
TZOFFSETFROM:-0600
TZOFFSETTO:-0500
TZNAME:CDT
DTSTART:20230312T080000
END:DAYLIGHT
BEGIN:STANDARD
TZOFFSETFROM:-0500
TZOFFSETTO:-0600
TZNAME:CST
DTSTART:20231105T070000
END:STANDARD
BEGIN:DAYLIGHT
TZOFFSETFROM:-0600
TZOFFSETTO:-0500
TZNAME:CDT
DTSTART:20240310T080000
END:DAYLIGHT
BEGIN:STANDARD
TZOFFSETFROM:-0500
TZOFFSETTO:-0600
TZNAME:CST
DTSTART:20241103T070000
END:STANDARD
BEGIN:DAYLIGHT
TZOFFSETFROM:-0600
TZOFFSETTO:-0500
TZNAME:CDT
DTSTART:20250309T080000
END:DAYLIGHT
BEGIN:STANDARD
TZOFFSETFROM:-0500
TZOFFSETTO:-0600
TZNAME:CST
DTSTART:20251102T070000
END:STANDARD
BEGIN:DAYLIGHT
TZOFFSETFROM:-0600
TZOFFSETTO:-0500
TZNAME:CDT
DTSTART:20260308T080000
END:DAYLIGHT
BEGIN:STANDARD
TZOFFSETFROM:-0500
TZOFFSETTO:-0600
TZNAME:CST
DTSTART:20261101T070000
END:STANDARD
END:VTIMEZONE
BEGIN:VEVENT
DTSTART;TZID=America/Chicago:20250109T163000
DTEND;TZID=America/Chicago:20250109T200000
DTSTAMP:20260425T112459
CREATED:20250103T223139Z
LAST-MODIFIED:20250103T223139Z
UID:9909-1736440200-1736452800@wilsonauctionservice.com
SUMMARY:COMBINED MOVING AUCTION 4:30PM - COLO
DESCRIPTION:
URL:https://wilsonauctionservice.com/combined-moving-auction-40/#new_tab
END:VEVENT
BEGIN:VEVENT
DTSTART;TZID=America/Chicago:20241221T094500
DTEND;TZID=America/Chicago:20241221T140000
DTSTAMP:20260425T112459
CREATED:20241209T213143Z
LAST-MODIFIED:20241209T213156Z
UID:9773-1734774300-1734789600@wilsonauctionservice.com
SUMMARY:ON-SITE MOVING AUCTION - RHODES\, IA 9:45AM
DESCRIPTION:
URL:https://wilsonauctionservice.com/moving-auction-15/
END:VEVENT
BEGIN:VEVENT
DTSTART;TZID=America/Chicago:20241212T163000
DTEND;TZID=America/Chicago:20241212T200000
DTSTAMP:20260425T112459
CREATED:20241206T150316Z
LAST-MODIFIED:20241206T150316Z
UID:9768-1734021000-1734033600@wilsonauctionservice.com
SUMMARY:COMBINED ESTATES AUCTION 4:30PM
DESCRIPTION:
URL:https://wilsonauctionservice.com/combined-estates-auction-5/
END:VEVENT
BEGIN:VEVENT
DTSTART;TZID=America/Chicago:20241127T090000
DTEND;TZID=America/Chicago:20241127T140000
DTSTAMP:20260425T112459
CREATED:20241124T175812Z
LAST-MODIFIED:20241124T175919Z
UID:9471-1732698000-1732716000@wilsonauctionservice.com
SUMMARY:HPL Fall Equip. Consignment Auction 9:00AM Union
DESCRIPTION:​​Jim Hines Retirement\, Ina Mae Sparks Estate\, Jerry Freese Estate\, & Leora McKibben Estate and much more!
URL:https://www.equipmentfacts.com/listings/upcoming-auctions/mid-iowa-auction-company/equipment/?EventID=237260745#new_tab
END:VEVENT
BEGIN:VEVENT
DTSTART;TZID=America/Chicago:20241126T133000
DTEND;TZID=America/Chicago:20241126T170000
DTSTAMP:20260425T112459
CREATED:20241114T185217Z
LAST-MODIFIED:20241114T185352Z
UID:9149-1732627800-1732640400@wilsonauctionservice.com
SUMMARY:ON-SITE MOVING AUCTION - ROLAND 1:30PM
DESCRIPTION:
URL:https://wilsonauctionservice.com/moving-auction-14/
END:VEVENT
BEGIN:VEVENT
DTSTART;TZID=America/Chicago:20241123T100000
DTEND;TZID=America/Chicago:20241123T170000
DTSTAMP:20260425T112459
CREATED:20241115T210119Z
LAST-MODIFIED:20241118T160517Z
UID:9151-1732356000-1732381200@wilsonauctionservice.com
SUMMARY:TOY AUCTION - TRAINS - 10:00AM COLO
DESCRIPTION:
URL:https://wilsonauctionservice.com/toy-auction-trains/
END:VEVENT
BEGIN:VEVENT
DTSTART;TZID=America/Chicago:20241122T173000
DTEND;TZID=America/Chicago:20241122T190000
DTSTAMP:20260425T112459
CREATED:20241121T195038Z
LAST-MODIFIED:20241121T195038Z
UID:9468-1732296600-1732302000@wilsonauctionservice.com
SUMMARY:EARLY PREVIEW FOR SATURDAY'S TOY AUCTION 5:30-7PM
DESCRIPTION:
URL:http://wilsonauctionservice.com/event/early-preview-for-saturdays-toy-auction-530-7pm/
END:VEVENT
BEGIN:VEVENT
DTSTART;TZID=America/Chicago:20241116T100000
DTEND;TZID=America/Chicago:20241116T140000
DTSTAMP:20260425T112459
CREATED:20241026T164223Z
LAST-MODIFIED:20241026T164223Z
UID:9121-1731751200-1731765600@wilsonauctionservice.com
SUMMARY:EXCELLENT ON SITE AUCTION 10:00 AM LAMOILLE\, IA
DESCRIPTION:
URL:http://wilsonauctionservice.com/excellent-auction/#new_tab
END:VEVENT
BEGIN:VEVENT
DTSTART;TZID=America/Chicago:20241115T100000
DTEND;TZID=America/Chicago:20241115T140000
DTSTAMP:20260425T112459
CREATED:20241114T161259Z
LAST-MODIFIED:20241114T161259Z
UID:9141-1731664800-1731679200@wilsonauctionservice.com
SUMMARY:EARLY PREVIEW FOR SATURDAY'S AUCTION 10-2
DESCRIPTION:
URL:http://wilsonauctionservice.com/event/early-preview-for-saturdays-auction-10-2/
END:VEVENT
BEGIN:VEVENT
DTSTART;TZID=America/Chicago:20241114T170000
DTEND;TZID=America/Chicago:20241114T170000
DTSTAMP:20260425T112459
CREATED:20241110T052129Z
LAST-MODIFIED:20241110T165120Z
UID:9133-1731603600-1731603600@wilsonauctionservice.com
SUMMARY:PRIVATE COLLECTORS AUCTION 5:30PM
DESCRIPTION:
URL:http://wilsonauctionservice.com/private-collectors-auction/
END:VEVENT
BEGIN:VEVENT
DTSTART;TZID=America/Chicago:20241110T123000
DTEND;TZID=America/Chicago:20241110T153000
DTSTAMP:20260425T112459
CREATED:20241026T171658Z
LAST-MODIFIED:20241026T171727Z
UID:9127-1731241800-1731252600@wilsonauctionservice.com
SUMMARY:BRADLEY MOODY ESTATE - COIN AUCTION - 576 LOTS - COLO\, IA 12:30PM
DESCRIPTION:
URL:https://wilsonauctionservice.com/coin-auction-576-lots/#new_tab
END:VEVENT
BEGIN:VEVENT
DTSTART;TZID=America/Chicago:20241102T080000
DTEND;TZID=America/Chicago:20241102T170000
DTSTAMP:20260425T112459
CREATED:20240801T130841Z
LAST-MODIFIED:20240801T130841Z
UID:8919-1730534400-1730566800@wilsonauctionservice.com
SUMMARY:PRIVATE EVENT
DESCRIPTION:
URL:http://wilsonauctionservice.com/event/private-event-9/
END:VEVENT
BEGIN:VEVENT
DTSTART;TZID=America/Chicago:20241026T080000
DTEND;TZID=America/Chicago:20241026T170000
DTSTAMP:20260425T112459
CREATED:20240801T130825Z
LAST-MODIFIED:20240801T130825Z
UID:8917-1729929600-1729962000@wilsonauctionservice.com
SUMMARY:PRIVATE EVENT
DESCRIPTION:
URL:http://wilsonauctionservice.com/event/private-event-8/
END:VEVENT
BEGIN:VEVENT
DTSTART;TZID=America/Chicago:20241019T080000
DTEND;TZID=America/Chicago:20241019T170000
DTSTAMP:20260425T112459
CREATED:20240801T130813Z
LAST-MODIFIED:20240801T130813Z
UID:8915-1729324800-1729357200@wilsonauctionservice.com
SUMMARY:PRIVATE EVENT
DESCRIPTION:
URL:http://wilsonauctionservice.com/event/private-event-7/
END:VEVENT
BEGIN:VEVENT
DTSTART;TZID=America/Chicago:20241012T080000
DTEND;TZID=America/Chicago:20241012T170000
DTSTAMP:20260425T112459
CREATED:20240801T130756Z
LAST-MODIFIED:20240801T130913Z
UID:8913-1728720000-1728752400@wilsonauctionservice.com
SUMMARY:STORY COUNTY PHEASANTS FOREVER EVENT
DESCRIPTION:
URL:http://wilsonauctionservice.com/event/private-event-6/
END:VEVENT
BEGIN:VEVENT
DTSTART;TZID=America/Chicago:20241005T093000
DTEND;TZID=America/Chicago:20241005T130000
DTSTAMP:20260425T112459
CREATED:20240923T151043Z
LAST-MODIFIED:20240923T151043Z
UID:8971-1728120600-1728133200@wilsonauctionservice.com
SUMMARY:*ON-SITE* MICHAEL COUGHENOUR ESTATE AUCTION - COLO  9:30AM
DESCRIPTION:
URL:http://wilsonauctionservice.com/michael-coughenour-estate-auction/
END:VEVENT
BEGIN:VEVENT
DTSTART;TZID=America/Chicago:20240928T093000
DTEND;TZID=America/Chicago:20240928T140000
DTSTAMP:20260425T112459
CREATED:20240908T215909Z
LAST-MODIFIED:20240908T215909Z
UID:8965-1727515800-1727532000@wilsonauctionservice.com
SUMMARY:JERRY (FROSTY) FREESE ESTATE AUCTION - 9:30AM - ELDORA\, IA
DESCRIPTION:
URL:http://wilsonauctionservice.com/jerry-frosty-freese-estate-auction/
END:VEVENT
BEGIN:VEVENT
DTSTART;TZID=America/Chicago:20240921T100000
DTEND;TZID=America/Chicago:20240921T140000
DTSTAMP:20260425T112459
CREATED:20240820T152801Z
LAST-MODIFIED:20240820T152801Z
UID:8938-1726912800-1726927200@wilsonauctionservice.com
SUMMARY:ON-SITE - BRADLEY MOODY ESTATE AUCTION 10AM - PILOT MOUND\, IA
DESCRIPTION:
URL:http://wilsonauctionservice.com/bradly-moody-estate-auction/
END:VEVENT
BEGIN:VEVENT
DTSTART;TZID=America/Chicago:20240914T100000
DTEND;TZID=America/Chicago:20240914T140000
DTSTAMP:20260425T112459
CREATED:20240801T130649Z
LAST-MODIFIED:20240906T183322Z
UID:8909-1726308000-1726322400@wilsonauctionservice.com
SUMMARY:ON SITE MOVING AUCTION - BONDURANT - 10:00AM
DESCRIPTION:
URL:http://wilsonauctionservice.com/moving-auction-13/
END:VEVENT
BEGIN:VEVENT
DTSTART;TZID=America/Chicago:20240912T163000
DTEND;TZID=America/Chicago:20240912T203000
DTSTAMP:20260425T112459
CREATED:20240904T230906Z
LAST-MODIFIED:20240904T230942Z
UID:8951-1726158600-1726173000@wilsonauctionservice.com
SUMMARY:COMBINED MOVING AUCTION 4:30PM - COLO
DESCRIPTION:
URL:http://wilsonauctionservice.com/combined-moving-auction-39/
END:VEVENT
BEGIN:VEVENT
DTSTART;TZID=America/Chicago:20240903T080000
DTEND;TZID=America/Chicago:20240903T170000
DTSTAMP:20260425T112459
CREATED:20240822T163126Z
LAST-MODIFIED:20240822T163126Z
UID:8943-1725350400-1725382800@wilsonauctionservice.com
SUMMARY:HAPPY BIRTHDAY JERRY SWENSON!
DESCRIPTION:Let’s celebrate Jerry Swenson with a card party for his birthday on September 3rd! \nCards can be mailed to: \nJerry Swenson\n2718 River Oaks Road\nIowa Falls\, IA 50126
URL:http://wilsonauctionservice.com/event/happy-birthday-jerry-swenson/
END:VEVENT
BEGIN:VEVENT
DTSTART;TZID=America/Chicago:20240824T100000
DTEND;TZID=America/Chicago:20240824T140000
DTSTAMP:20260425T112459
CREATED:20240812T003546Z
LAST-MODIFIED:20240812T003546Z
UID:8927-1724493600-1724508000@wilsonauctionservice.com
SUMMARY:ON-SITE MOVING AUCTION 10:00AM MARSHALLTOWN
DESCRIPTION:
URL:http://wilsonauctionservice.com/moving-auction-12/
END:VEVENT
BEGIN:VEVENT
DTSTART;TZID=America/Chicago:20240822T163000
DTEND;TZID=America/Chicago:20240822T200000
DTSTAMP:20260425T112459
CREATED:20240801T130452Z
LAST-MODIFIED:20240813T234727Z
UID:8905-1724344200-1724356800@wilsonauctionservice.com
SUMMARY:COMBINED MOVING AUCTION 4:30PM - COLO
DESCRIPTION:
URL:http://wilsonauctionservice.com/combined-moving-auction-38/
END:VEVENT
BEGIN:VEVENT
DTSTART;TZID=America/Chicago:20240808T160000
DTEND;TZID=America/Chicago:20240808T200000
DTSTAMP:20260425T112459
CREATED:20240731T180358Z
LAST-MODIFIED:20240801T130311Z
UID:8607-1723132800-1723147200@wilsonauctionservice.com
SUMMARY:RICK BISHOP ESTATE 4:00PM COLO
DESCRIPTION:
URL:http://wilsonauctionservice.com/rick-bishop-estate-auction/#new_tab
END:VEVENT
BEGIN:VEVENT
DTSTART;TZID=America/Chicago:20240803T080000
DTEND;TZID=America/Chicago:20240803T170000
DTSTAMP:20260425T112459
CREATED:20240731T172559Z
LAST-MODIFIED:20240731T172644Z
UID:8603-1722672000-1722704400@wilsonauctionservice.com
SUMMARY:2024 Judge Joseph Story Dinner 5PM - Click for link to tickets
DESCRIPTION:
URL:https://www.storycountygop.com/2024jjs#new_tab
END:VEVENT
BEGIN:VEVENT
DTSTART;TZID=America/Chicago:20240801T163000
DTEND;TZID=America/Chicago:20240801T200000
DTSTAMP:20260425T112459
CREATED:20240716T210657Z
LAST-MODIFIED:20240716T210806Z
UID:8592-1722529800-1722542400@wilsonauctionservice.com
SUMMARY:*ON-SITE* MOVING AUCTION - OWNER: JOE HERMAN - 4:30PM - STATE CENTER\, IA
DESCRIPTION:
URL:http://wilsonauctionservice.com/moving-auction-11/
END:VEVENT
BEGIN:VEVENT
DTSTART;TZID=America/Chicago:20240718T173000
DTEND;TZID=America/Chicago:20240718T200000
DTSTAMP:20260425T112459
CREATED:20240701T231407Z
LAST-MODIFIED:20240716T210846Z
UID:8228-1721323800-1721332800@wilsonauctionservice.com
SUMMARY:Combined Estates Sportsman Auction - 5:30PM - Guns | Ammo | Knives | Related Items - App 100 Firearms
DESCRIPTION:
URL:http://wilsonauctionservice.com/combined-estates-sportsman-auction/
END:VEVENT
BEGIN:VEVENT
DTSTART;TZID=America/Chicago:20240711T162000
DTEND;TZID=America/Chicago:20240711T200000
DTSTAMP:20260425T112459
CREATED:20240707T191529Z
LAST-MODIFIED:20240707T194139Z
UID:8233-1720714800-1720728000@wilsonauctionservice.com
SUMMARY:COMBINED MOVING AUCTION - 4:30PM - COLO
DESCRIPTION:
URL:http://wilsonauctionservice.com/combined-moving-auction-37/
END:VEVENT
BEGIN:VEVENT
DTSTART;TZID=America/Chicago:20240627T163000
DTEND;TZID=America/Chicago:20240627T203000
DTSTAMP:20260425T112459
CREATED:20240621T202647Z
LAST-MODIFIED:20240621T202700Z
UID:8222-1719505800-1719520200@wilsonauctionservice.com
SUMMARY:COMBINED MOVING AUCTION - 4:30 - COLO
DESCRIPTION:
URL:https://wilsonauctionservice.com/combined-moving-auction-36/
END:VEVENT
BEGIN:VEVENT
DTSTART;TZID=America/Chicago:20240620T171500
DTEND;TZID=America/Chicago:20240620T200000
DTSTAMP:20260425T112459
CREATED:20240608T170244Z
LAST-MODIFIED:20240620T133544Z
UID:8215-1718903700-1718913600@wilsonauctionservice.com
SUMMARY:ON SITE MOVING AUCTION - 5:15PM ZEARING\, IA *RAIN OR SHINE*
DESCRIPTION:
URL:http://wilsonauctionservice.com/moving-auction-10/#new_tab
END:VEVENT
END:VCALENDAR