BEGIN:VCALENDAR
VERSION:2.0
PRODID:-//Wilson Auction Service - ECPv6.15.16.1//NONSGML v1.0//EN
CALSCALE:GREGORIAN
METHOD:PUBLISH
X-WR-CALNAME:Wilson Auction Service
X-ORIGINAL-URL:http://wilsonauctionservice.com
X-WR-CALDESC:Events for Wilson Auction Service
REFRESH-INTERVAL;VALUE=DURATION:PT1H
X-Robots-Tag:noindex
X-PUBLISHED-TTL:PT1H
BEGIN:VTIMEZONE
TZID:America/Chicago
BEGIN:DAYLIGHT
TZOFFSETFROM:-0600
TZOFFSETTO:-0500
TZNAME:CDT
DTSTART:20220313T080000
END:DAYLIGHT
BEGIN:STANDARD
TZOFFSETFROM:-0500
TZOFFSETTO:-0600
TZNAME:CST
DTSTART:20221106T070000
END:STANDARD
BEGIN:DAYLIGHT
TZOFFSETFROM:-0600
TZOFFSETTO:-0500
TZNAME:CDT
DTSTART:20230312T080000
END:DAYLIGHT
BEGIN:STANDARD
TZOFFSETFROM:-0500
TZOFFSETTO:-0600
TZNAME:CST
DTSTART:20231105T070000
END:STANDARD
BEGIN:DAYLIGHT
TZOFFSETFROM:-0600
TZOFFSETTO:-0500
TZNAME:CDT
DTSTART:20240310T080000
END:DAYLIGHT
BEGIN:STANDARD
TZOFFSETFROM:-0500
TZOFFSETTO:-0600
TZNAME:CST
DTSTART:20241103T070000
END:STANDARD
BEGIN:DAYLIGHT
TZOFFSETFROM:-0600
TZOFFSETTO:-0500
TZNAME:CDT
DTSTART:20250309T080000
END:DAYLIGHT
BEGIN:STANDARD
TZOFFSETFROM:-0500
TZOFFSETTO:-0600
TZNAME:CST
DTSTART:20251102T070000
END:STANDARD
END:VTIMEZONE
BEGIN:VEVENT
DTSTART;TZID=America/Chicago:20240903T080000
DTEND;TZID=America/Chicago:20240903T170000
DTSTAMP:20260425T141754
CREATED:20240822T163126Z
LAST-MODIFIED:20240822T163126Z
UID:8943-1725350400-1725382800@wilsonauctionservice.com
SUMMARY:HAPPY BIRTHDAY JERRY SWENSON!
DESCRIPTION:Let’s celebrate Jerry Swenson with a card party for his birthday on September 3rd! \nCards can be mailed to: \nJerry Swenson\n2718 River Oaks Road\nIowa Falls\, IA 50126
URL:http://wilsonauctionservice.com/event/happy-birthday-jerry-swenson/
END:VEVENT
BEGIN:VEVENT
DTSTART;TZID=America/Chicago:20240824T100000
DTEND;TZID=America/Chicago:20240824T140000
DTSTAMP:20260425T141754
CREATED:20240812T003546Z
LAST-MODIFIED:20240812T003546Z
UID:8927-1724493600-1724508000@wilsonauctionservice.com
SUMMARY:ON-SITE MOVING AUCTION 10:00AM MARSHALLTOWN
DESCRIPTION:
URL:http://wilsonauctionservice.com/moving-auction-12/
END:VEVENT
BEGIN:VEVENT
DTSTART;TZID=America/Chicago:20240822T163000
DTEND;TZID=America/Chicago:20240822T200000
DTSTAMP:20260425T141754
CREATED:20240801T130452Z
LAST-MODIFIED:20240813T234727Z
UID:8905-1724344200-1724356800@wilsonauctionservice.com
SUMMARY:COMBINED MOVING AUCTION 4:30PM - COLO
DESCRIPTION:
URL:http://wilsonauctionservice.com/combined-moving-auction-38/
END:VEVENT
BEGIN:VEVENT
DTSTART;TZID=America/Chicago:20240808T160000
DTEND;TZID=America/Chicago:20240808T200000
DTSTAMP:20260425T141754
CREATED:20240731T180358Z
LAST-MODIFIED:20240801T130311Z
UID:8607-1723132800-1723147200@wilsonauctionservice.com
SUMMARY:RICK BISHOP ESTATE 4:00PM COLO
DESCRIPTION:
URL:http://wilsonauctionservice.com/rick-bishop-estate-auction/#new_tab
END:VEVENT
BEGIN:VEVENT
DTSTART;TZID=America/Chicago:20240803T080000
DTEND;TZID=America/Chicago:20240803T170000
DTSTAMP:20260425T141754
CREATED:20240731T172559Z
LAST-MODIFIED:20240731T172644Z
UID:8603-1722672000-1722704400@wilsonauctionservice.com
SUMMARY:2024 Judge Joseph Story Dinner 5PM - Click for link to tickets
DESCRIPTION:
URL:https://www.storycountygop.com/2024jjs#new_tab
END:VEVENT
BEGIN:VEVENT
DTSTART;TZID=America/Chicago:20240801T163000
DTEND;TZID=America/Chicago:20240801T200000
DTSTAMP:20260425T141754
CREATED:20240716T210657Z
LAST-MODIFIED:20240716T210806Z
UID:8592-1722529800-1722542400@wilsonauctionservice.com
SUMMARY:*ON-SITE* MOVING AUCTION - OWNER: JOE HERMAN - 4:30PM - STATE CENTER\, IA
DESCRIPTION:
URL:http://wilsonauctionservice.com/moving-auction-11/
END:VEVENT
BEGIN:VEVENT
DTSTART;TZID=America/Chicago:20240718T173000
DTEND;TZID=America/Chicago:20240718T200000
DTSTAMP:20260425T141754
CREATED:20240701T231407Z
LAST-MODIFIED:20240716T210846Z
UID:8228-1721323800-1721332800@wilsonauctionservice.com
SUMMARY:Combined Estates Sportsman Auction - 5:30PM - Guns | Ammo | Knives | Related Items - App 100 Firearms
DESCRIPTION:
URL:http://wilsonauctionservice.com/combined-estates-sportsman-auction/
END:VEVENT
BEGIN:VEVENT
DTSTART;TZID=America/Chicago:20240711T162000
DTEND;TZID=America/Chicago:20240711T200000
DTSTAMP:20260425T141754
CREATED:20240707T191529Z
LAST-MODIFIED:20240707T194139Z
UID:8233-1720714800-1720728000@wilsonauctionservice.com
SUMMARY:COMBINED MOVING AUCTION - 4:30PM - COLO
DESCRIPTION:
URL:http://wilsonauctionservice.com/combined-moving-auction-37/
END:VEVENT
BEGIN:VEVENT
DTSTART;TZID=America/Chicago:20240627T163000
DTEND;TZID=America/Chicago:20240627T203000
DTSTAMP:20260425T141754
CREATED:20240621T202647Z
LAST-MODIFIED:20240621T202700Z
UID:8222-1719505800-1719520200@wilsonauctionservice.com
SUMMARY:COMBINED MOVING AUCTION - 4:30 - COLO
DESCRIPTION:
URL:https://wilsonauctionservice.com/combined-moving-auction-36/
END:VEVENT
BEGIN:VEVENT
DTSTART;TZID=America/Chicago:20240620T171500
DTEND;TZID=America/Chicago:20240620T200000
DTSTAMP:20260425T141754
CREATED:20240608T170244Z
LAST-MODIFIED:20240620T133544Z
UID:8215-1718903700-1718913600@wilsonauctionservice.com
SUMMARY:ON SITE MOVING AUCTION - 5:15PM ZEARING\, IA *RAIN OR SHINE*
DESCRIPTION:
URL:http://wilsonauctionservice.com/moving-auction-10/#new_tab
END:VEVENT
BEGIN:VEVENT
DTSTART;TZID=America/Chicago:20240619T170000
DTEND;TZID=America/Chicago:20240619T200000
DTSTAMP:20260425T141754
CREATED:20240607T155333Z
LAST-MODIFIED:20240607T155333Z
UID:8210-1718816400-1718827200@wilsonauctionservice.com
SUMMARY:HPL AUCTION : Doug (Doc) Coffman Estate/Construction/Tool Auction Iowa Falls\, IA
DESCRIPTION:
URL:https://facebook.com/events/s/doug-doc-coffman-estate-constr/945587157226983/
END:VEVENT
BEGIN:VEVENT
DTSTART;TZID=America/Chicago:20240606T162000
DTEND;TZID=America/Chicago:20240606T200000
DTSTAMP:20260425T141754
CREATED:20240603T121846Z
LAST-MODIFIED:20240603T121846Z
UID:8208-1717690800-1717704000@wilsonauctionservice.com
SUMMARY:COMBINED MOVING AUCTION 4:20PM - COLO
DESCRIPTION:
URL:http://wilsonauctionservice.com/combined-moving-auction-35/
END:VEVENT
BEGIN:VEVENT
DTSTART;TZID=America/Chicago:20240530T170000
DTEND;TZID=America/Chicago:20240530T200000
DTSTAMP:20260425T141754
CREATED:20240523T230011Z
LAST-MODIFIED:20240523T230011Z
UID:8202-1717088400-1717099200@wilsonauctionservice.com
SUMMARY:ON-SITE ESTATE AUCTION ALVIS & ESTHER SHAW- COLLINS\, IA 5:00PM
DESCRIPTION:
URL:http://wilsonauctionservice.com/estate-auction-10/
LOCATION:ALVIS & ESTHER SHAW ESTATE\, 704 4TH AVENUE\, COLLINS\, IA\, 50055\, United States
END:VEVENT
BEGIN:VEVENT
DTSTART;TZID=America/Chicago:20240516T162000
DTEND;TZID=America/Chicago:20240516T200000
DTSTAMP:20260425T141754
CREATED:20240513T024052Z
LAST-MODIFIED:20240513T024142Z
UID:8192-1715876400-1715889600@wilsonauctionservice.com
SUMMARY:COMBINED MOVING AUCTION 4:20PM IN COLO - COINS - GOLD RINGS - TOOLS & MORE
DESCRIPTION:
URL:http://wilsonauctionservice.com/combined-moving-auction-34/
LOCATION:Willow Brook Barn\, 408 Progress Drive\, Colo\, IA\, 50056\, United States
END:VEVENT
BEGIN:VEVENT
DTSTART;TZID=America/Chicago:20240509T163000
DTEND;TZID=America/Chicago:20240509T200000
DTSTAMP:20260425T141754
CREATED:20240506T113914Z
LAST-MODIFIED:20240506T113914Z
UID:8187-1715272200-1715284800@wilsonauctionservice.com
SUMMARY:RON INGLE ESTATE FROM IOWA FALLS\, IA & OTHERS - 4:30PM - COLO
DESCRIPTION:
URL:http://wilsonauctionservice.com/ron-ingle-estate-from-iowa-falls-ia-others/
LOCATION:Willow Brook Barn\, 408 Progress Drive\, Colo\, IA\, 50056\, United States
END:VEVENT
BEGIN:VEVENT
DTSTART;TZID=America/Chicago:20240502T080000
DTEND;TZID=America/Chicago:20240502T170000
DTSTAMP:20260425T141754
CREATED:20240427T122927Z
LAST-MODIFIED:20240429T143220Z
UID:8175-1714636800-1714669200@wilsonauctionservice.com
SUMMARY:COMBINED MOVING AUCTION 4:30PM COLO
DESCRIPTION:
URL:http://wilsonauctionservice.com/combined-moving-auction-33/
LOCATION:Willow Brook Barn\, 408 Progress Drive\, Colo\, IA\, 50056\, United States
END:VEVENT
BEGIN:VEVENT
DTSTART;VALUE=DATE:20240501
DTEND;VALUE=DATE:20240502
DTSTAMP:20260425T141754
CREATED:20240501T170730Z
LAST-MODIFIED:20240501T170730Z
UID:8181-1714521600-1714607999@wilsonauctionservice.com
SUMMARY:PREVIEW FOR TOMORROW EVENING'S AUCTION 5-7PM
DESCRIPTION:
URL:http://wilsonauctionservice.com/combined-moving-auction-33/
END:VEVENT
BEGIN:VEVENT
DTSTART;TZID=America/Chicago:20240411T162000
DTEND;TZID=America/Chicago:20240411T203000
DTSTAMP:20260425T141754
CREATED:20240405T012841Z
LAST-MODIFIED:20240405T022949Z
UID:8167-1712852400-1712867400@wilsonauctionservice.com
SUMMARY:AUCTION -GUNS-SCOPES-TOOLS-COLLECTIBLES-KNIVES 4:20PM - COLO
DESCRIPTION:
URL:http://wilsonauctionservice.com/auction-3/
LOCATION:Willow Brook Barn\, 408 Progress Drive\, Colo\, IA\, 50056\, United States
END:VEVENT
BEGIN:VEVENT
DTSTART;TZID=America/Chicago:20240328T163000
DTEND;TZID=America/Chicago:20240328T200000
DTSTAMP:20260425T141754
CREATED:20240322T020632Z
LAST-MODIFIED:20240322T021459Z
UID:8163-1711643400-1711656000@wilsonauctionservice.com
SUMMARY:Combined Moving Auction - 4:30 - Colo
DESCRIPTION:
URL:http://wilsonauctionservice.com/combined-moving-auction-32/
LOCATION:Willow Brook Barn\, 408 Progress Drive\, Colo\, IA\, 50056\, United States
END:VEVENT
BEGIN:VEVENT
DTSTART;TZID=America/Chicago:20240316T090000
DTEND;TZID=America/Chicago:20240316T170000
DTSTAMP:20260425T141754
CREATED:20240309T004754Z
LAST-MODIFIED:20240309T005117Z
UID:8152-1710579600-1710608400@wilsonauctionservice.com
SUMMARY:DUAINE BOSTWICK FROM STORY CITY ESTATE AUCTION 9:00AM - COLO
DESCRIPTION:
URL:http://wilsonauctionservice.com/estate-auction-9/
END:VEVENT
BEGIN:VEVENT
DTSTART;TZID=America/Chicago:20240229T163000
DTEND;TZID=America/Chicago:20240229T200000
DTSTAMP:20260425T141754
CREATED:20240226T163055Z
LAST-MODIFIED:20240226T163055Z
UID:8142-1709224200-1709236800@wilsonauctionservice.com
SUMMARY:COMBINED MOVING AUCTION - 4:30PM - COLO
DESCRIPTION:
URL:http://wilsonauctionservice.com/combined-moving-auction-31/
LOCATION:Willow Brook Barn\, 408 Progress Drive\, Colo\, IA\, 50056\, United States
END:VEVENT
BEGIN:VEVENT
DTSTART;TZID=America/Chicago:20240222T164500
DTEND;TZID=America/Chicago:20240222T200000
DTSTAMP:20260425T141754
CREATED:20240215T134425Z
LAST-MODIFIED:20240215T134502Z
UID:8123-1708620300-1708632000@wilsonauctionservice.com
SUMMARY:COMBINED MOVING AUCTION 4:45PM COLO
DESCRIPTION:
URL:https://wilsonauctionservice.com/combined-moving-auction-30/
LOCATION:Willow Brook Barn\, 408 Progress Drive\, Colo\, IA\, 50056\, United States
END:VEVENT
BEGIN:VEVENT
DTSTART;VALUE=DATE:20240203
DTEND;VALUE=DATE:20240204
DTSTAMP:20260425T141754
CREATED:20240108T201612Z
LAST-MODIFIED:20240117T025333Z
UID:7492-1706918400-1707004799@wilsonauctionservice.com
SUMMARY:SPORTSMAN AUCTION - 10:00AM - COLO\, IA
DESCRIPTION:
URL:http://wilsonauctionservice.com/sportsman-auction-3/
LOCATION:Willow Brook Barn\, 408 Progress Drive\, Colo\, IA\, 50056\, United States
END:VEVENT
BEGIN:VEVENT
DTSTART;VALUE=DATE:20240201
DTEND;VALUE=DATE:20240202
DTSTAMP:20260425T141754
CREATED:20240126T184857Z
LAST-MODIFIED:20240127T003147Z
UID:7936-1706745600-1706831999@wilsonauctionservice.com
SUMMARY:COMBINED MOVING AUCTION (COINS) - 4:30PM COLO
DESCRIPTION:
URL:http://wilsonauctionservice.com/combined-moving-auction-29/
END:VEVENT
BEGIN:VEVENT
DTSTART;TZID=America/Chicago:20240120T100000
DTEND;TZID=America/Chicago:20240120T150000
DTSTAMP:20260425T141754
CREATED:20240108T195821Z
LAST-MODIFIED:20240108T195828Z
UID:7484-1705744800-1705762800@wilsonauctionservice.com
SUMMARY:DUAINE G BOSTWICK ESTATE - TOY AUCTION - 10:00AM - COLO
DESCRIPTION:
URL:https://wilsonauctionservice.com/duaine-g-bostwick-estate-toy-auction/
LOCATION:Willow Brook Barn\, 408 Progress Drive\, Colo\, IA\, 50056\, United States
END:VEVENT
BEGIN:VEVENT
DTSTART;TZID=America/Chicago:20240118T163000
DTEND;TZID=America/Chicago:20240118T203000
DTSTAMP:20260425T141754
CREATED:20240112T010033Z
LAST-MODIFIED:20240112T010046Z
UID:7496-1705595400-1705609800@wilsonauctionservice.com
SUMMARY:COMBINED ESTATE-MOVING AUCTION 4:30PM
DESCRIPTION:
URL:http://wilsonauctionservice.com/combined-estate-moving-auction/
LOCATION:Willow Brook Barn\, 408 Progress Drive\, Colo\, IA\, 50056\, United States
END:VEVENT
BEGIN:VEVENT
DTSTART;TZID=America/Chicago:20231220T163000
DTEND;TZID=America/Chicago:20231220T203000
DTSTAMP:20260425T141754
CREATED:20231215T215638Z
LAST-MODIFIED:20231215T215814Z
UID:7478-1703089800-1703104200@wilsonauctionservice.com
SUMMARY:COMBINED MOVING AUCTION - 4:30PM - COLO *last auction for 2023*
DESCRIPTION:
URL:https://wilsonauctionservice.com/COMBINED-MOVING-AUCTION-28/
LOCATION:Willow Brook Barn\, 408 Progress Drive\, Colo\, IA\, 50056\, United States
END:VEVENT
BEGIN:VEVENT
DTSTART;TZID=America/Chicago:20231207T163000
DTEND;TZID=America/Chicago:20231207T203000
DTSTAMP:20260425T141754
CREATED:20231204T202608Z
LAST-MODIFIED:20231204T202608Z
UID:7473-1701966600-1701981000@wilsonauctionservice.com
SUMMARY:COMBINED MOVING AUCTION - 4:30PM - COLO\, IA
DESCRIPTION:
URL:https://wilsonauctionservice.com/combined-moving-auction-27/#new_tab
LOCATION:Willow Brook Barn\, 408 Progress Drive\, Colo\, IA\, 50056\, United States
END:VEVENT
BEGIN:VEVENT
DTSTART;TZID=America/Chicago:20231130T163000
DTEND;TZID=America/Chicago:20231130T203000
DTSTAMP:20260425T141754
CREATED:20231125T141429Z
LAST-MODIFIED:20231125T141506Z
UID:7467-1701361800-1701376200@wilsonauctionservice.com
SUMMARY:COMBINED MOVING AUCTION - COLO - 4:30PM
DESCRIPTION:
URL:https://wilsonauctionservice.com/combined-moving-auction-26/#new_tab
LOCATION:Willow Brook Barn\, 408 Progress Drive\, Colo\, IA\, 50056\, United States
END:VEVENT
BEGIN:VEVENT
DTSTART;TZID=America/Chicago:20231116T163000
DTEND;TZID=America/Chicago:20231116T203000
DTSTAMP:20260425T141754
CREATED:20231111T133851Z
LAST-MODIFIED:20231114T003739Z
UID:7458-1700152200-1700166600@wilsonauctionservice.com
SUMMARY:COMBINED MOVING AUCTION 4:30PM - COLO
DESCRIPTION:
URL:http://wilsonauctionservice.com/combined-moving-auction-25/#new_tab
END:VEVENT
END:VCALENDAR