BEGIN:VCALENDAR
VERSION:2.0
PRODID:-//Wilson Auction Service - ECPv6.15.16.1//NONSGML v1.0//EN
CALSCALE:GREGORIAN
METHOD:PUBLISH
X-WR-CALNAME:Wilson Auction Service
X-ORIGINAL-URL:http://wilsonauctionservice.com
X-WR-CALDESC:Events for Wilson Auction Service
REFRESH-INTERVAL;VALUE=DURATION:PT1H
X-Robots-Tag:noindex
X-PUBLISHED-TTL:PT1H
BEGIN:VTIMEZONE
TZID:America/Chicago
BEGIN:DAYLIGHT
TZOFFSETFROM:-0600
TZOFFSETTO:-0500
TZNAME:CDT
DTSTART:20240310T080000
END:DAYLIGHT
BEGIN:STANDARD
TZOFFSETFROM:-0500
TZOFFSETTO:-0600
TZNAME:CST
DTSTART:20241103T070000
END:STANDARD
BEGIN:DAYLIGHT
TZOFFSETFROM:-0600
TZOFFSETTO:-0500
TZNAME:CDT
DTSTART:20250309T080000
END:DAYLIGHT
BEGIN:STANDARD
TZOFFSETFROM:-0500
TZOFFSETTO:-0600
TZNAME:CST
DTSTART:20251102T070000
END:STANDARD
BEGIN:DAYLIGHT
TZOFFSETFROM:-0600
TZOFFSETTO:-0500
TZNAME:CDT
DTSTART:20260308T080000
END:DAYLIGHT
BEGIN:STANDARD
TZOFFSETFROM:-0500
TZOFFSETTO:-0600
TZNAME:CST
DTSTART:20261101T070000
END:STANDARD
END:VTIMEZONE
BEGIN:VEVENT
DTSTART;TZID=America/Chicago:20250806T171500
DTEND;TZID=America/Chicago:20250806T201500
DTSTAMP:20260425T160929
CREATED:20250729T154238Z
LAST-MODIFIED:20250729T154238Z
UID:12494-1754500500-1754511300@wilsonauctionservice.com
SUMMARY:MOVING AUCTION - HUBBARD\, IA 5:15PM - HAL ARROWWOOD
DESCRIPTION:
URL:https://wilsonauctionservice.com/moving-auction-16/
END:VEVENT
BEGIN:VEVENT
DTSTART;TZID=America/Chicago:20250819T173000
DTEND;TZID=America/Chicago:20250819T200000
DTSTAMP:20260425T160929
CREATED:20250807T165841Z
LAST-MODIFIED:20250807T165841Z
UID:12506-1755624600-1755633600@wilsonauctionservice.com
SUMMARY:ON-SITE TOOL AUCTION - JD B TRACTOR - 5:30PM - MCCALLSBURG\, IA
DESCRIPTION:
URL:https://wilsonauctionservice.com/tool-auction-jd-b-tractor/
END:VEVENT
BEGIN:VEVENT
DTSTART;TZID=America/Chicago:20250821T170000
DTEND;TZID=America/Chicago:20250821T200000
DTSTAMP:20260425T160929
CREATED:20250801T150506Z
LAST-MODIFIED:20250801T150539Z
UID:12499-1755795600-1755806400@wilsonauctionservice.com
SUMMARY:MOVING AUCTION - STATE CENTER\, IA - 5:00PM - PAT KIFER
DESCRIPTION:
URL:https://wilsonauctionservice.com/moving-auction-17/
END:VEVENT
BEGIN:VEVENT
DTSTART;TZID=America/Chicago:20250828T163000
DTEND;TZID=America/Chicago:20250828T190000
DTSTAMP:20260425T160929
CREATED:20250822T150024Z
LAST-MODIFIED:20250822T150024Z
UID:12764-1756398600-1756407600@wilsonauctionservice.com
SUMMARY:MOTORCYCLES-TOOLS-SNOWBLOWER-TOY RACE & MODEL CARS AUCTION - 4:30PM COLO
DESCRIPTION:
URL:https://wilsonauctionservice.com/auction-5/
END:VEVENT
END:VCALENDAR